BEGIN:VCALENDAR
VERSION:2.0
PRODID:-//CAOS Musical Society - ECPv6.3.2//NONSGML v1.0//EN
CALSCALE:GREGORIAN
METHOD:PUBLISH
X-WR-CALNAME:CAOS Musical Society
X-ORIGINAL-URL:https://caosmusicalsociety.co.uk
X-WR-CALDESC:Events for CAOS Musical Society
REFRESH-INTERVAL;VALUE=DURATION:PT1H
X-Robots-Tag:noindex
X-PUBLISHED-TTL:PT1H
BEGIN:VTIMEZONE
TZID:UTC
BEGIN:STANDARD
TZOFFSETFROM:+0000
TZOFFSETTO:+0000
TZNAME:UTC
DTSTART:20230101T000000
END:STANDARD
END:VTIMEZONE
BEGIN:VEVENT
DTSTART;TZID=UTC:20231020T190000
DTEND;TZID=UTC:20231020T220000
DTSTAMP:20260423T225824
CREATED:20230614T131312Z
LAST-MODIFIED:20230614T131312Z
UID:879-1697828400-1697839200@caosmusicalsociety.co.uk
SUMMARY:CAOS Sings The Movies
DESCRIPTION:
URL:https://caosmusicalsociety.co.uk/event/caos-sings-the-movies-3/
LOCATION:The Market Theatre\, The Butts\, Cowbridge\, Vale of Glamorgan\, CF71 7AP\, United Kingdom
END:VEVENT
BEGIN:VEVENT
DTSTART;TZID=UTC:20231021T190000
DTEND;TZID=UTC:20231021T220000
DTSTAMP:20260423T225824
CREATED:20220304T201941Z
LAST-MODIFIED:20230614T130724Z
UID:794-1697914800-1697925600@caosmusicalsociety.co.uk
SUMMARY:CAOS Sings The Movies
DESCRIPTION:
URL:https://caosmusicalsociety.co.uk/event/caos-summer-concert/
LOCATION:Stewart Road Community Centre\, Rhoose
END:VEVENT
BEGIN:VEVENT
DTSTART;TZID=UTC:20231022T190000
DTEND;TZID=UTC:20231022T220000
DTSTAMP:20260423T225824
CREATED:20230614T131726Z
LAST-MODIFIED:20230614T131726Z
UID:882-1698001200-1698012000@caosmusicalsociety.co.uk
SUMMARY:CAOS Sings The Movies
DESCRIPTION:
URL:https://caosmusicalsociety.co.uk/event/caos-sings-the-movies/
LOCATION:Llantonian Hall\, Llantwit Major
END:VEVENT
BEGIN:VEVENT
DTSTART;TZID=UTC:20250613T193000
DTEND;TZID=UTC:20250613T213000
DTSTAMP:20260423T225824
CREATED:20250505T182740Z
LAST-MODIFIED:20250505T182740Z
UID:908-1749843000-1749850200@caosmusicalsociety.co.uk
SUMMARY:CAOS A Taste of The Westend
DESCRIPTION:
URL:https://caosmusicalsociety.co.uk/event/caos-a-taste-of-the-westend/
LOCATION:Stewart Road Community Centre\, Rhoose
END:VEVENT
BEGIN:VEVENT
DTSTART;TZID=UTC:20250614T143000
DTEND;TZID=UTC:20250614T163000
DTSTAMP:20260423T225824
CREATED:20250505T183005Z
LAST-MODIFIED:20250505T183005Z
UID:910-1749911400-1749918600@caosmusicalsociety.co.uk
SUMMARY:CAOS A Taste of the Westend
DESCRIPTION:
URL:https://caosmusicalsociety.co.uk/event/caos-a-taste-of-the-westend-2/
LOCATION:Llantonian Hall\, Llantwit Major
END:VEVENT
BEGIN:VEVENT
DTSTART;TZID=UTC:20250614T193000
DTEND;TZID=UTC:20250614T213000
DTSTAMP:20260423T225824
CREATED:20250505T183042Z
LAST-MODIFIED:20250505T183042Z
UID:912-1749929400-1749936600@caosmusicalsociety.co.uk
SUMMARY:CAOS A Taste of the Westend
DESCRIPTION:
URL:https://caosmusicalsociety.co.uk/event/caos-a-taste-of-the-westend-3/
LOCATION:Llantonian Hall\, Llantwit Major
END:VEVENT
BEGIN:VEVENT
DTSTART;TZID=UTC:20250615T193000
DTEND;TZID=UTC:20250615T213000
DTSTAMP:20260423T225824
CREATED:20250505T183158Z
LAST-MODIFIED:20250505T183158Z
UID:914-1750015800-1750023000@caosmusicalsociety.co.uk
SUMMARY:CAOS A Taste of the Westend
DESCRIPTION:
URL:https://caosmusicalsociety.co.uk/event/caos-a-taste-of-the-westend-4/
LOCATION:The Gathering Place\, St Athan
END:VEVENT
END:VCALENDAR